BEGIN:VCALENDAR
VERSION:2.0
PRODID:-//Alianza Francesa Guatemala - ECPv6.15.20//NONSGML v1.0//EN
CALSCALE:GREGORIAN
METHOD:PUBLISH
X-ORIGINAL-URL:https://alianzafrancesa.org.gt
X-WR-CALDESC:Eventos para Alianza Francesa Guatemala
REFRESH-INTERVAL;VALUE=DURATION:PT1H
X-Robots-Tag:noindex
X-PUBLISHED-TTL:PT1H
BEGIN:VTIMEZONE
TZID:America/Chicago
BEGIN:DAYLIGHT
TZOFFSETFROM:-0600
TZOFFSETTO:-0500
TZNAME:CDT
DTSTART:20180311T080000
END:DAYLIGHT
BEGIN:STANDARD
TZOFFSETFROM:-0500
TZOFFSETTO:-0600
TZNAME:CST
DTSTART:20181104T070000
END:STANDARD
BEGIN:DAYLIGHT
TZOFFSETFROM:-0600
TZOFFSETTO:-0500
TZNAME:CDT
DTSTART:20190310T080000
END:DAYLIGHT
BEGIN:STANDARD
TZOFFSETFROM:-0500
TZOFFSETTO:-0600
TZNAME:CST
DTSTART:20191103T070000
END:STANDARD
BEGIN:DAYLIGHT
TZOFFSETFROM:-0600
TZOFFSETTO:-0500
TZNAME:CDT
DTSTART:20200308T080000
END:DAYLIGHT
BEGIN:STANDARD
TZOFFSETFROM:-0500
TZOFFSETTO:-0600
TZNAME:CST
DTSTART:20201101T070000
END:STANDARD
END:VTIMEZONE
BEGIN:VEVENT
DTSTART;TZID=America/Chicago:20191128T194500
DTEND;TZID=America/Chicago:20191128T210000
DTSTAMP:20260424T114046
CREATED:20191104T201336Z
LAST-MODIFIED:20191104T201336Z
UID:5459-1574970300-1574974800@alianzafrancesa.org.gt
SUMMARY:FIESTA DE CLAUSURA DE LA TEMPORADA 2019
DESCRIPTION:CLAUSURA DE TEMPORADA 2019\n  \nPROGRAMA \n¡Terminamos una rica temporada y queremos celebrarlo y compartirlo con todos ustedes! \nClausura oficial de la temporada 2018 de la Alianza Francesa Guatemala\, el jueves 28 de noviembre a las 19:45hrs con: \n  \nExposiciones\n>> «Autocontencíon»  de Jorge Luis Linares en la galería de arte \nMúsica \n>> Igualado \n>> Kadmon \n>> Pablo Lujan \nFoodrucks\n>>  Happy Tree \n\n> Querido Combo \n\n>> Crêpette \n\nCervezas & Vino\n\n>> Shot a Fuq\n>> Cervecería El Zapote\n\n>> Vino de Honor \n\n\n\nEXPOSICION \n\n«Autocintencíon» de Jorge Luis Linares\n\nEl artista fusiona las imágenes y las formas\, y\, en ese proceso deconstruye y desarrolla el concepto de su obra; en el que explora estéticas urbanas y la integración de la plástica con la arquitectura. Linares busca a través de estas prácticas\, en el campo del arte contemporáneo\, dar una respuesta visual y física a los conflictos urbanos\, sociales y económicos; producidos por las dinámicas de una cultura industrializada y de consumo masivo. \n19:45 horas \nAlianza Francesa de Guatemala \nEntrada Libre
URL:https://alianzafrancesa.org.gt/evento/fiesta-de-clausura-de-la-temporada-2019/
LOCATION:horarios_semi-intensivos.svg
CATEGORIES:Agenda,Artes Plásticas,Cine,Diseño,Música
ATTACH;FMTTYPE=:
END:VEVENT
END:VCALENDAR