BEGIN:VCALENDAR
VERSION:2.0
PRODID:-//Alianza Francesa Guatemala - ECPv6.15.20//NONSGML v1.0//EN
CALSCALE:GREGORIAN
METHOD:PUBLISH
X-ORIGINAL-URL:https://alianzafrancesa.org.gt
X-WR-CALDESC:Eventos para Alianza Francesa Guatemala
REFRESH-INTERVAL;VALUE=DURATION:PT1H
X-Robots-Tag:noindex
X-PUBLISHED-TTL:PT1H
BEGIN:VTIMEZONE
TZID:America/Chicago
BEGIN:DAYLIGHT
TZOFFSETFROM:-0600
TZOFFSETTO:-0500
TZNAME:CDT
DTSTART:20200308T080000
END:DAYLIGHT
BEGIN:STANDARD
TZOFFSETFROM:-0500
TZOFFSETTO:-0600
TZNAME:CST
DTSTART:20201101T070000
END:STANDARD
BEGIN:DAYLIGHT
TZOFFSETFROM:-0600
TZOFFSETTO:-0500
TZNAME:CDT
DTSTART:20210314T080000
END:DAYLIGHT
BEGIN:STANDARD
TZOFFSETFROM:-0500
TZOFFSETTO:-0600
TZNAME:CST
DTSTART:20211107T070000
END:STANDARD
BEGIN:DAYLIGHT
TZOFFSETFROM:-0600
TZOFFSETTO:-0500
TZNAME:CDT
DTSTART:20220313T080000
END:DAYLIGHT
BEGIN:STANDARD
TZOFFSETFROM:-0500
TZOFFSETTO:-0600
TZNAME:CST
DTSTART:20221106T070000
END:STANDARD
END:VTIMEZONE
BEGIN:VEVENT
DTSTART;TZID=America/Chicago:20210414T193000
DTEND;TZID=America/Chicago:20210414T203000
DTSTAMP:20260423T072045
CREATED:20210406T154655Z
LAST-MODIFIED:20210406T154655Z
UID:6419-1618428600-1618432200@alianzafrancesa.org.gt
SUMMARY:Concierto de música | Grupo Sotz’il (música Maya)
DESCRIPTION:Concierto de música | Grupo Sotz’il (música Maya)\nEl miércoles 14 de abril\, la Alianza Francesa de Guatemala les invita al concierto del Grupo Sotz’il donde se podrán dejar llevar por la música maya. \nEs una amplia propuesta melódica basada en creaciones propias a partir de una profunda investigación en instrumentos prehispánicos y tradicionales construidos por el propio Grupo en cerámica\, caña\, madera\, caparazones de tortuga\, caracoles\, etc. Instrumentos de viento y percusión en su mayoría. \n  \nEl Grupo Sotz’il\, una transmisión de la música tradicional Maya\n\nSotz’il es un termino Maya Kaqchikel que significa murciélago\, energía o esencia del murciélago. \nEl Grupo Sotz’il maya kaqchikel es originario de la Aldea\, el Tablón\, Sololá\, del altiplano del país de Guatemala. Surge en el año 2000\, su línea de trabajo es la investigación\, creación y fomento de la música\, danza y arte escénico Maya. \nEn la actualidad\, ante una historia difuminada por los abusos permanentes contra los pueblos originarios\, surge la necesidad de buscar y retomar los conocimientos artísticos ancestrales. \nEsta búsqueda es mediante la consulta con abuelos y abuelas artistas\, con las sagradas energías del universo y retomando la esencia del arte desde una vivencia holística (integrando lo espiritual\, social y científico). Para el Grupo Sotz’il\, la espiritualidad y en consecuencia los ciclos ceremoniales\, son los ejes transversales sobre los que se sustentan sus procesos creativos. \nLa selección de la temática y el fundamento de sus obras\, se deducen de un proceso de investigación social a partir de la transmisión oral\, bibliográfica\, iconográfica\, museológica\, científica\, etc. \nCon el acompañamiento y validación por parte de abuelos y abuelas artistas mayas. \nSobre el album AJPOSOTZ’IL\nAJPOSOTZ’IL es un término en idioma maya kaqchikel que hace referencia a la parcialidad del pueblo kaqchikel y sus gobernantes a lo largo del tiempo y la historia. \nAjpopi’\, gobernantes de gran sabiduría y fortaleza espiritual\, guiadores de los pueblos. La música del grupo Sotz’il es un homenaje y agradecimiento a ellos por su legado a las presentes y futuras generaciones\, por su lucha ante las dificultades políticas y sociales acaecidas a lo largo de su historia como pueblos\, y por haber ofrendado su sudor\, sus lágrimas\, tristezas\, alegrías y sus vidas por sus pueblos y nietos de hoy. \n  \nMiércoles 14 de abril\n19:30hrs\nPágina Facebook de la Alianza Francesa
URL:https://alianzafrancesa.org.gt/evento/concierto-de-musica-grupo-sotzil-musica-maya/
CATEGORIES:Agenda,Música
ATTACH;FMTTYPE=:
END:VEVENT
END:VCALENDAR