BEGIN:VCALENDAR
VERSION:2.0
PRODID:-//Alianza Francesa Guatemala - ECPv6.15.20//NONSGML v1.0//EN
CALSCALE:GREGORIAN
METHOD:PUBLISH
X-WR-CALNAME:Alianza Francesa Guatemala
X-ORIGINAL-URL:https://alianzafrancesa.org.gt
X-WR-CALDESC:Eventos para Alianza Francesa Guatemala
REFRESH-INTERVAL;VALUE=DURATION:PT1H
X-Robots-Tag:noindex
X-PUBLISHED-TTL:PT1H
BEGIN:VTIMEZONE
TZID:America/Chicago
BEGIN:DAYLIGHT
TZOFFSETFROM:-0600
TZOFFSETTO:-0500
TZNAME:CDT
DTSTART:20200308T080000
END:DAYLIGHT
BEGIN:STANDARD
TZOFFSETFROM:-0500
TZOFFSETTO:-0600
TZNAME:CST
DTSTART:20201101T070000
END:STANDARD
BEGIN:DAYLIGHT
TZOFFSETFROM:-0600
TZOFFSETTO:-0500
TZNAME:CDT
DTSTART:20210314T080000
END:DAYLIGHT
BEGIN:STANDARD
TZOFFSETFROM:-0500
TZOFFSETTO:-0600
TZNAME:CST
DTSTART:20211107T070000
END:STANDARD
BEGIN:DAYLIGHT
TZOFFSETFROM:-0600
TZOFFSETTO:-0500
TZNAME:CDT
DTSTART:20220313T080000
END:DAYLIGHT
BEGIN:STANDARD
TZOFFSETFROM:-0500
TZOFFSETTO:-0600
TZNAME:CST
DTSTART:20221106T070000
END:STANDARD
END:VTIMEZONE
BEGIN:VEVENT
DTSTART;TZID=America/Chicago:20210425T190000
DTEND;TZID=America/Chicago:20210425T200000
DTSTAMP:20260423T071744
CREATED:20210419T161841Z
LAST-MODIFIED:20210419T161841Z
UID:6436-1619377200-1619380800@alianzafrancesa.org.gt
SUMMARY:El Show - Alliances Sonores | Franc Castillejos
DESCRIPTION:El Show – Alliances Sonores\nEl domingo 25 de abril\, la Alianza Francesa de Guatemala les invita a “ Le Show”\, un programa iniciado por Alliances Sonores. La primera difusión de Le Show se llevó a cabo el domingo 14 de marzo con la participación de las Alianzas Francesas de San Salvador\, Querétaro y Santo Domingo. \nEn esta segunda edición\, las Alianzas Francesas de Ciudad de Guatemala\, Arequipa (Perú) y Tegucigalpa (Honduras) presentarán a 3 bandas. El talentoso músico y productor Franc Castillejos representará nuestra Alianza Francesa tocando canciones con estilo indie y rock y agregando notas de folk. \n\n\n  \n¿Qué es Le Show?\nLe Show es un programa presentado por Alliances Sonores\, el laboratorio de innovación artística de la red cultural francesa de Latinoamérica y el Caribe\, conocidas como “Alliances Sonores”. \nLe Show busca dar visibilidad internacional a artistas de nuestros territorios.\n¿Cómo funciona?\n1 programa mensual por Facebook Live\n3 Alianzas Francesas diferentes cada mes\n3 bandas o artistas de Latinoamérica y el Caribe \nLe show será difundido por las páginas de Facebook de casi 20 Alianzas Francesas de Latinoamérica y el Caribe. \n  \nFranc Castillejos\, nuestro invitado del Show\nFranc Castillejos es uno de los jóvenes cantautores más respetados e interesantes de la escena musical actual. \n\nCon dos discos de estudio como solista\, uno más bajo el proyecto de Mountain Sounds\, y el productor de otros grandes talentos como el Ishto Juevez y These City Lights\, no es de sorprenderse la legión de fanáticos que siguen cada toque de Castillejos. \nLos dos EP’s de Franc\, My Scared Boy y Lo que nace y no se ve\, contienen algunas de las canciones más queridas del solista. Algunas de las canciones importantes son La Mariposa y El Sol\, Volumes and Shelves\, Sahara Be Kind y Nos Extraño. Franc canta en inglés como en español. \nEl sonido de Franc es fuertemente influenciado por el folk estadounidense\, indie y brit pop. Su voz es un suspiro cálido\, muy a lo Wilco\, Owen\, Iron & Wine o Oscar Isaac. Franc toca guitarra\, bajo\, batería y piano. \n  \nDomingo 25 de abril\n19:00hrs\nPágina Facebook de la Alianza Francesa
URL:https://alianzafrancesa.org.gt/evento/el-show-alliances-sonores-franc-castillejos/
CATEGORIES:Agenda,Música
ATTACH;FMTTYPE=:
END:VEVENT
END:VCALENDAR