BEGIN:VCALENDAR
VERSION:2.0
PRODID:-//Alianza Francesa Guatemala - ECPv6.15.20//NONSGML v1.0//EN
CALSCALE:GREGORIAN
METHOD:PUBLISH
X-ORIGINAL-URL:https://alianzafrancesa.org.gt
X-WR-CALDESC:Eventos para Alianza Francesa Guatemala
REFRESH-INTERVAL;VALUE=DURATION:PT1H
X-Robots-Tag:noindex
X-PUBLISHED-TTL:PT1H
BEGIN:VTIMEZONE
TZID:America/Chicago
BEGIN:DAYLIGHT
TZOFFSETFROM:-0600
TZOFFSETTO:-0500
TZNAME:CDT
DTSTART:20200308T080000
END:DAYLIGHT
BEGIN:STANDARD
TZOFFSETFROM:-0500
TZOFFSETTO:-0600
TZNAME:CST
DTSTART:20201101T070000
END:STANDARD
BEGIN:DAYLIGHT
TZOFFSETFROM:-0600
TZOFFSETTO:-0500
TZNAME:CDT
DTSTART:20210314T080000
END:DAYLIGHT
BEGIN:STANDARD
TZOFFSETFROM:-0500
TZOFFSETTO:-0600
TZNAME:CST
DTSTART:20211107T070000
END:STANDARD
BEGIN:DAYLIGHT
TZOFFSETFROM:-0600
TZOFFSETTO:-0500
TZNAME:CDT
DTSTART:20220313T080000
END:DAYLIGHT
BEGIN:STANDARD
TZOFFSETFROM:-0500
TZOFFSETTO:-0600
TZNAME:CST
DTSTART:20221106T070000
END:STANDARD
END:VTIMEZONE
BEGIN:VEVENT
DTSTART;TZID=America/Chicago:20210512T193000
DTEND;TZID=America/Chicago:20210512T203000
DTSTAMP:20260423T072054
CREATED:20210430T164149Z
LAST-MODIFIED:20210430T164149Z
UID:6518-1620847800-1620851400@alianzafrancesa.org.gt
SUMMARY:Casa de canciones | Pat'za
DESCRIPTION:Casa de canciones | Pat’za\nEl miércoles 12 de mayo\, la Alianza Francesa de Guatemala les invita a su ciclo musical titulado «Casa de canciones»\, una edición especial #quedateencasa para darle continuidad a nuestro ciclo de cantautores «Galería de canciones». \nPat’za nos acompañará esta noche de su guitarra electroacústica y su voz carismática. Con su talento natural e imagen bohemia\, nos deleitará cantando historias vividas. Su estilo es una amalgama derivada de su paso por diversos rincones mundanos\, por lo que fusiona ritmos de la guitarra tipo trova y el cante flamenco. \nPat’za\, una fusión de ritmos de guitarra y cante flamenco\n\nPatrizia Volpi llegó a Guatemala con apenas 4 años; nació en 1984\, en México. Su padre es alemán y su madre italiana. Antes de instalarse definitivamente en nuestro país decide viajar por varios años para encontrar su vocación\, la cual descubrió en el ámbito artístico. \nPor la mente de Patrizia nunca pasó que la música sería una más de sus facetes artísticas\, ya que siempre la había visto más como un complemento a la escultura y el muralismo\, técnicas que ha desarrollado ampliamente. \nLanzó su primer álbum «Criterio Amplio” en 2010 y su primera gira para su presentación alrededor de toda Guatemala fue en 2011. Sin un género propiamente establecido\, cada canción de este álbum habla de una etapa\, un suceso o un momento vivido. \nEs la cantante principal en la banda SHOW TIES y la banda KARDAMOMO PROGECT. \nMiércoles 12 de mayo\n19:30hrs\nPágina Facebook de la Alianza Francesa\n 
URL:https://alianzafrancesa.org.gt/evento/casa-de-canciones-patza/
CATEGORIES:Agenda,Música
END:VEVENT
END:VCALENDAR