BEGIN:VCALENDAR
VERSION:2.0
PRODID:-//Alianza Francesa Guatemala - ECPv6.15.20//NONSGML v1.0//EN
CALSCALE:GREGORIAN
METHOD:PUBLISH
X-WR-CALNAME:Alianza Francesa Guatemala
X-ORIGINAL-URL:https://alianzafrancesa.org.gt
X-WR-CALDESC:Eventos para Alianza Francesa Guatemala
REFRESH-INTERVAL;VALUE=DURATION:PT1H
X-Robots-Tag:noindex
X-PUBLISHED-TTL:PT1H
BEGIN:VTIMEZONE
TZID:America/Chicago
BEGIN:DAYLIGHT
TZOFFSETFROM:-0600
TZOFFSETTO:-0500
TZNAME:CDT
DTSTART:20200308T080000
END:DAYLIGHT
BEGIN:STANDARD
TZOFFSETFROM:-0500
TZOFFSETTO:-0600
TZNAME:CST
DTSTART:20201101T070000
END:STANDARD
BEGIN:DAYLIGHT
TZOFFSETFROM:-0600
TZOFFSETTO:-0500
TZNAME:CDT
DTSTART:20210314T080000
END:DAYLIGHT
BEGIN:STANDARD
TZOFFSETFROM:-0500
TZOFFSETTO:-0600
TZNAME:CST
DTSTART:20211107T070000
END:STANDARD
BEGIN:DAYLIGHT
TZOFFSETFROM:-0600
TZOFFSETTO:-0500
TZNAME:CDT
DTSTART:20220313T080000
END:DAYLIGHT
BEGIN:STANDARD
TZOFFSETFROM:-0500
TZOFFSETTO:-0600
TZNAME:CST
DTSTART:20221106T070000
END:STANDARD
END:VTIMEZONE
BEGIN:VEVENT
DTSTART;TZID=America/Chicago:20210721T193000
DTEND;TZID=America/Chicago:20210721T203000
DTSTAMP:20260423T025905
CREATED:20210712T202034Z
LAST-MODIFIED:20210712T202034Z
UID:6600-1626895800-1626899400@alianzafrancesa.org.gt
SUMMARY:Casa de canciones - Pedro Boche
DESCRIPTION:Casa de canciones – Pedro Boche\nEl miércoles 21 de julio\, la Alianza Francesa de Guatemala les invita a su ciclo musical titulado «Casa de canciones»\, una edición especial #quedateencasa para darle continuidad a nuestro ciclo de cantautores «Galería de canciones». \nRecibiremos este mes al cantautor antigüeño Pedro Boche. Con su guitarra y voz\, nos introducirá en una atmósfera de ensueño para viajar por Guatemala a través de sus canciones de amor\, desamor y crítica social. \n\nPedro Boche siembra su música por el mundo\nPedro inició en 2006 ganando el primer lugar a nivel nacional del Talent Tour de Prensa Libre con una composición original\, desde entonces se ha presentado en diversos auditorios promoviendo la canción de autor. \nTras 10 años de trayectoria\, en 2014 grabó su primer disco en vivo en la Sala Tras Bastidores del Centro Cultural Miguel Ángel Asturias durante el Décimo Festival de Junio. En 2015\, presentó su álbum Tras Bastidores en el Centro Cultural El Sitio de La Antigua Guatemala con un lleno total. Al año siguiente\, viaja a Europa en dónde graba en Sesión de Micros Abiertos de Valencia\, España. Su música y sus ganas de cruzar fronteras lo han llevado por quince países de América Latina y Europa. \nDesde 2020\, volvió a radicar en su ciudad natal\, La Antigua Guatemala\, en dónde ya prepara su próximo disco\, del cual se desprenderá el sencillo: Antes de dormir\, a lanzarse en el segundo semestre de 2021. \n  \nMiércoles 21 de julio\n19:30hrs\nPágina Facebook de la Alianza Francesa
URL:https://alianzafrancesa.org.gt/evento/casa-de-canciones-pedro-boche/
CATEGORIES:Agenda,Música
ATTACH;FMTTYPE=:
END:VEVENT
END:VCALENDAR