BEGIN:VCALENDAR
VERSION:2.0
PRODID:-//Alianza Francesa Guatemala - ECPv6.15.20//NONSGML v1.0//EN
CALSCALE:GREGORIAN
METHOD:PUBLISH
X-WR-CALNAME:Alianza Francesa Guatemala
X-ORIGINAL-URL:https://alianzafrancesa.org.gt
X-WR-CALDESC:Eventos para Alianza Francesa Guatemala
REFRESH-INTERVAL;VALUE=DURATION:PT1H
X-Robots-Tag:noindex
X-PUBLISHED-TTL:PT1H
BEGIN:VTIMEZONE
TZID:America/Chicago
BEGIN:DAYLIGHT
TZOFFSETFROM:-0600
TZOFFSETTO:-0500
TZNAME:CDT
DTSTART:20200308T080000
END:DAYLIGHT
BEGIN:STANDARD
TZOFFSETFROM:-0500
TZOFFSETTO:-0600
TZNAME:CST
DTSTART:20201101T070000
END:STANDARD
BEGIN:DAYLIGHT
TZOFFSETFROM:-0600
TZOFFSETTO:-0500
TZNAME:CDT
DTSTART:20210314T080000
END:DAYLIGHT
BEGIN:STANDARD
TZOFFSETFROM:-0500
TZOFFSETTO:-0600
TZNAME:CST
DTSTART:20211107T070000
END:STANDARD
BEGIN:DAYLIGHT
TZOFFSETFROM:-0600
TZOFFSETTO:-0500
TZNAME:CDT
DTSTART:20220313T080000
END:DAYLIGHT
BEGIN:STANDARD
TZOFFSETFROM:-0500
TZOFFSETTO:-0600
TZNAME:CST
DTSTART:20221106T070000
END:STANDARD
END:VTIMEZONE
BEGIN:VEVENT
DTSTART;TZID=America/Chicago:20210818T193000
DTEND;TZID=America/Chicago:20210818T203000
DTSTAMP:20260423T012358
CREATED:20210726T185245Z
LAST-MODIFIED:20210726T185245Z
UID:6652-1629315000-1629318600@alianzafrancesa.org.gt
SUMMARY:Casa de canciones - Claroscuro
DESCRIPTION:Casa de canciones – Claroscuro\nEl miércoles 18 de agosto\, la Alianza Francesa de Guatemala les invita a su ciclo musical titulado «Casa de canciones»\, una edición especial #quedateencasa para darle continuidad a nuestro ciclo de cantautores «Galería de canciones». \nEn este mes de agosto\, tendremos el placer de presentarles el dúo Claroscuro. Frescura y sensatez en cada una de sus canciones\, buscan sin fines pretensiosos sensibilizar y colaborar con la sanación humana de una parte de la sociedad. \n\nDos hermanos que sobresalen en la música trova\nClaroscuro es un dúo conformado por dos hermanos hace ya casi diez años\, con la intención única de cantar porque es imperioso\, porque es necesario y porque\, a través del canto\, de la música\, de la compañía y la hermandad en el arte\, es posible alcanzar una unidad plena. He ahí el origen del nombre del dúo\, como una alegoría de lo que supone la unidad y necesidad entre la luz y la oscuridad en la percepción de las cosas. \nCon más de 80 composiciones propias\, un material discográfico publicado\, y colaboración en diferentes compilaciones de música nacional y centroamericana\, su trayectoria abarca presentaciones en diversos escenarios\, junto a grandes figuras de la canción centroamericana tales como Carlos Mejía Godoy\, Katia Cardenal\, Perrozompopo\, Aullador\, entre otros. \nEn todas sus presentaciones a lo largo de Centroamérica se han ganado a pulso de interesantes armonías vocales\, letras y canciones fuera del modelo establecido\, la admiración y el aplauso del público; a su vez\, la crítica musical ha apuntado sobre su disco y sus presentaciones el tono desenfadado y fresco de sus canciones que no pretenden estar más allá de sus propias virtudes y defectos. \n\nMiércoles 18 de agosto\n19:30hrs\nPágina Facebook de la Alianza Francesa
URL:https://alianzafrancesa.org.gt/evento/casa-de-canciones-claroscuro/
CATEGORIES:Agenda,Música
ATTACH;FMTTYPE=:
END:VEVENT
END:VCALENDAR