BEGIN:VCALENDAR
VERSION:2.0
PRODID:-//Alianza Francesa Guatemala - ECPv6.15.20//NONSGML v1.0//EN
CALSCALE:GREGORIAN
METHOD:PUBLISH
X-ORIGINAL-URL:https://alianzafrancesa.org.gt
X-WR-CALDESC:Eventos para Alianza Francesa Guatemala
REFRESH-INTERVAL;VALUE=DURATION:PT1H
X-Robots-Tag:noindex
X-PUBLISHED-TTL:PT1H
BEGIN:VTIMEZONE
TZID:America/Chicago
BEGIN:DAYLIGHT
TZOFFSETFROM:-0600
TZOFFSETTO:-0500
TZNAME:CDT
DTSTART:20200308T080000
END:DAYLIGHT
BEGIN:STANDARD
TZOFFSETFROM:-0500
TZOFFSETTO:-0600
TZNAME:CST
DTSTART:20201101T070000
END:STANDARD
BEGIN:DAYLIGHT
TZOFFSETFROM:-0600
TZOFFSETTO:-0500
TZNAME:CDT
DTSTART:20210314T080000
END:DAYLIGHT
BEGIN:STANDARD
TZOFFSETFROM:-0500
TZOFFSETTO:-0600
TZNAME:CST
DTSTART:20211107T070000
END:STANDARD
BEGIN:DAYLIGHT
TZOFFSETFROM:-0600
TZOFFSETTO:-0500
TZNAME:CDT
DTSTART:20220313T080000
END:DAYLIGHT
BEGIN:STANDARD
TZOFFSETFROM:-0500
TZOFFSETTO:-0600
TZNAME:CST
DTSTART:20221106T070000
END:STANDARD
END:VTIMEZONE
BEGIN:VEVENT
DTSTART;TZID=America/Chicago:20210922T193000
DTEND;TZID=America/Chicago:20210922T203000
DTSTAMP:20260422T235645
CREATED:20210823T230734Z
LAST-MODIFIED:20210823T230734Z
UID:6735-1632339000-1632342600@alianzafrancesa.org.gt
SUMMARY:Sin Palabras en casa - Mabe Fratti
DESCRIPTION:Sin Palabras en casa – Mabe Fratti\nEl miércoles 22 de septiembre\, la Alianza Francesa de Guatemala les invita a su ciclo musical «Sin Palabras… en casa» en una edición especial #quedateencasa para darle continuidad a nuestro ciclo “Sin Palabras”. \nLa cantante\, multiinstrumentista y compositora guatemalteca\, Mabe Fratti\, nos regalará un concierto de cello donde se disfrutará de la experimentación con el sonido\, con las sensaciones y con la existencia misma. La música de Mabe desarma por todos los flancos\, transformándonos en sensibles cajas de resonancia: mediante una ejecución hipnótica y cautivadora. \n  \n\n\nMabe Fratti\, una propuesta de música versátil\nLa sensibilidad de Mabe Fratti es el triunfo de la experimentación por sobre el dominio técnico de un instrumento. \nEsto ha llevado a Mabe y su chelo de Guatemala a Ciudad de México\, de la academia al noise; de la colaboración en ensambles y dúos\, al profundo viaje personal que se refleja en sus presentaciones solistas; de la creación de canciones pop a la impro libre y de escenarios como NRMAL al CENART. \nMabe va hilando elementos contemporáneos como el shoegaze y el dreampop con influencias ancestrales que van del canto gregoriano a la música sefardí\, transformándolos en ingredientes de un potente ritual sonoro de profundo impacto emocional. \nMoot Point (2018)\, Aprendiendo a Hablar (2018) y Pies sobre la tierra (2019) son los testimonios en estudio de las inmensas constelaciones sonoras que Mabe Fratti es capaz de crear\, ya sea en solitario o acompañada de colaboradores como Roberto Tercero\, Concepción Huerta\, Eviltapes o Mito del Desierto. \n  \nMiércoles 22 de septiembre\n19:30hrs\nPágina Facebook de la Alianza Francesa
URL:https://alianzafrancesa.org.gt/evento/sin-palabras-en-casa-mabe-fratti/
CATEGORIES:Agenda,Música
ATTACH;FMTTYPE=:
END:VEVENT
END:VCALENDAR