BEGIN:VCALENDAR
VERSION:2.0
PRODID:-//Alianza Francesa Guatemala - ECPv6.15.20//NONSGML v1.0//EN
CALSCALE:GREGORIAN
METHOD:PUBLISH
X-ORIGINAL-URL:https://alianzafrancesa.org.gt
X-WR-CALDESC:Eventos para Alianza Francesa Guatemala
REFRESH-INTERVAL;VALUE=DURATION:PT1H
X-Robots-Tag:noindex
X-PUBLISHED-TTL:PT1H
BEGIN:VTIMEZONE
TZID:America/Chicago
BEGIN:DAYLIGHT
TZOFFSETFROM:-0600
TZOFFSETTO:-0500
TZNAME:CDT
DTSTART:20200308T080000
END:DAYLIGHT
BEGIN:STANDARD
TZOFFSETFROM:-0500
TZOFFSETTO:-0600
TZNAME:CST
DTSTART:20201101T070000
END:STANDARD
BEGIN:DAYLIGHT
TZOFFSETFROM:-0600
TZOFFSETTO:-0500
TZNAME:CDT
DTSTART:20210314T080000
END:DAYLIGHT
BEGIN:STANDARD
TZOFFSETFROM:-0500
TZOFFSETTO:-0600
TZNAME:CST
DTSTART:20211107T070000
END:STANDARD
BEGIN:DAYLIGHT
TZOFFSETFROM:-0600
TZOFFSETTO:-0500
TZNAME:CDT
DTSTART:20220313T080000
END:DAYLIGHT
BEGIN:STANDARD
TZOFFSETFROM:-0500
TZOFFSETTO:-0600
TZNAME:CST
DTSTART:20221106T070000
END:STANDARD
END:VTIMEZONE
BEGIN:VEVENT
DTSTART;TZID=America/Chicago:20211006T193000
DTEND;TZID=America/Chicago:20211006T203000
DTSTAMP:20260422T221959
CREATED:20210929T202202Z
LAST-MODIFIED:20210929T202202Z
UID:6810-1633548600-1633552200@alianzafrancesa.org.gt
SUMMARY:Sin Palabras en casa - Eric Vásquez
DESCRIPTION:Sin Palabras en casa – Eric Vásquez\nEl miércoles 6 de octubre\, la Alianza Francesa de Guatemala les invita a su ciclo musical «Sin Palabras… en casa» en una edición especial #quedateencasa para darle continuidad a nuestro ciclo “Sin Palabras”. \nEl proyecto Etno-fusión de Erik Vásquez es la puesta en escena de un proyecto musical en el que se fusionan ritmos e instrumentos autóctonos de diferentes partes del mundo a sonidos y elementos contemporáneos\, dándoles a los primeros\, de esta forma\, un nuevo y más fresco sonido. \n  \n\n  \nUn género de música en donde se entrelazan y fusionan instrumentos y ritmos étnicos de todo el mundo\nErik Vásquez es profesor en educación de la Historia y las Ciencias Sociales graduado por la Universidad Galileo de Guatemala. \nHa colaborado en diferentes grabaciones discográficas y compuesto temas para diferentes entidades. En el 2017 lanzo su primer Disco como solista titulado “Eternidad” en donde todos los temas son de su autoría y en el que interpretó flautas exóticas fusionadas con sonidos y ritmos electrónicos. Con el proyecto Musical Etno Fusión\, ha realizado conciertos dentro del territorio nacional y el extranjero en importantes festivales y presentado en gran cantidad de Teatros. \nEl proyecto Etno Fusión tiene como objetivo principal el rescate\, conservación y difusión de instrumentos y musicales étnicos de todas partes del mundo. Actualmente dirige el pro- grama educativo “Conciertos  didácticos de Guatemala”. \n  \nMiércoles 6 de octubre\n19:30hrs\nPágina Facebook de la Alianza Francesa
URL:https://alianzafrancesa.org.gt/evento/sin-palabras-en-casa-eric-vasquez/
CATEGORIES:Agenda,Música
ATTACH;FMTTYPE=:
END:VEVENT
END:VCALENDAR