BEGIN:VCALENDAR
VERSION:2.0
PRODID:-//Alianza Francesa Guatemala - ECPv6.15.20//NONSGML v1.0//EN
CALSCALE:GREGORIAN
METHOD:PUBLISH
X-WR-CALNAME:Alianza Francesa Guatemala
X-ORIGINAL-URL:https://alianzafrancesa.org.gt
X-WR-CALDESC:Eventos para Alianza Francesa Guatemala
REFRESH-INTERVAL;VALUE=DURATION:PT1H
X-Robots-Tag:noindex
X-PUBLISHED-TTL:PT1H
BEGIN:VTIMEZONE
TZID:America/Guatemala
BEGIN:STANDARD
TZOFFSETFROM:-0600
TZOFFSETTO:-0600
TZNAME:CST
DTSTART:20210101T000000
END:STANDARD
END:VTIMEZONE
BEGIN:VEVENT
DTSTART;TZID=America/Guatemala:20220330T193000
DTEND;TZID=America/Guatemala:20220330T203000
DTSTAMP:20260422T133027
CREATED:20220318T152728Z
LAST-MODIFIED:20220318T171243Z
UID:6984-1648668600-1648672200@alianzafrancesa.org.gt
SUMMARY:Sin Palabras en casa - ClariNet4
DESCRIPTION:Sin Palabras en casa – ClariNet4\nEl miércoles 30 de marzo\, la Alianza Francesa de Guatemala les invita a su ciclo musical «Sin Palabras… en casa» en una edición especial #quedateencasa para darle continuidad a nuestro ciclo “Sin Palabras”. \nNuestro invitado de esta noche será ClariNet4\, un ensamble que nace en diciembre del año 2019 con el fin de llevar música de todos los estilos a través de 4 clarinetes y percusión. \n  \nUn ensamble que te hará descubrir el clarinete bajo todas sus formas\nDesde sus inicios ClariNet4 se ha podido presentar en distintos espacios como: Proyecto Poporopo\, IRTRA Mundo Petapa\, La Discoteca Café\, AVON\, Orquesta Sinfónica Nacional\, 14 Grados (Cervecería 14)\, también en una pedida de mano\, misa de navidad y en Alianza Francesa de la ciudad capital. \nSus integrantes son guatemaltecos\, donde cabe mencionar que aparte del clarinete\, algunos de ellos practican la docencia\, el arte del barismo\, composición y hasta la fotografía. ClariNet4 es un ensamble «cool» que trabaja en un repertorio ameno y dinámico para que todo aquel que los escuche\, salga con una sonrisa y los lleve siempre en sus recuerdos. \n\n  \nMiércoles 30 de marzo\n19:30hrs\nPágina Facebook de la Alianza Francesa
URL:https://alianzafrancesa.org.gt/evento/sin-palabras-en-casa-clarinet4/
CATEGORIES:Agenda,Música,Musique
ATTACH;FMTTYPE=image/png:https://alianzafrancesa.org.gt/wp-content/uploads/2022/03/Plan-de-travail-11-min.png
END:VEVENT
END:VCALENDAR