BEGIN:VCALENDAR
VERSION:2.0
PRODID:-//Alianza Francesa Guatemala - ECPv6.15.20//NONSGML v1.0//EN
CALSCALE:GREGORIAN
METHOD:PUBLISH
X-ORIGINAL-URL:https://alianzafrancesa.org.gt
X-WR-CALDESC:Eventos para Alianza Francesa Guatemala
REFRESH-INTERVAL;VALUE=DURATION:PT1H
X-Robots-Tag:noindex
X-PUBLISHED-TTL:PT1H
BEGIN:VTIMEZONE
TZID:America/Guatemala
BEGIN:STANDARD
TZOFFSETFROM:-0600
TZOFFSETTO:-0600
TZNAME:CST
DTSTART:20220101T000000
END:STANDARD
END:VTIMEZONE
BEGIN:VEVENT
DTSTART;TZID=America/Guatemala:20230215T190000
DTEND;TZID=America/Guatemala:20230215T210000
DTSTAMP:20260421T230823
CREATED:20230215T192212Z
LAST-MODIFIED:20230215T192212Z
UID:8080-1676487600-1676494800@alianzafrancesa.org.gt
SUMMARY:Guitarra para todos
DESCRIPTION:Por amor a la guitarra \n\nTe invitamos a una noche inolvidable de guitarra acústica con músicos de excelencia. Este concierto reúne a tres guitarristas talentosos que harán vibrar tus sentidos con sus melodías suaves y el sonido cálido de la guitarra acústica. Noah Shelley\, Roberto Monroy y David Franco se unen para ofrecerte una experiencia musical única e inolvidable. Cada uno de ellos tiene un estilo distinto y ha cosechado un éxito impresionante en el mundo de la música. \n  \nGuitarrista estelar: \nNoah Shelley es un guitarrista guatemalteco de gran talento e inspiración musical. Inicio de manera autodidacta sus estudios musicales\, pero al darse cuenta de la necesidad de tomar clases\, se pone en manos de dos maestros internacionales de gran renombre. \nNoah ha tocado en diversos escenarios tanto en la capital como en el interior de la república. \nEs ganador del 3.º lugar en el 1.º Concurso de Guitarra para TODOS\, en 2022. \nActualmente\, es profesor de guitarra\, de inglés\, se dedica al buceo libre y es parte del staff permanente del programa Guitarra para TODOS. \n  \nEl recital “Por amor a la guitarra” presentará a Roberto Monroy\, David Franco y Noah Shelley\, 3 destacados guitarristas guatemaltecos que se caracterizan por su forma de tocar. Imprimen sentimiento a las obras que interpretan y cautivan al público con las melodías de sus guitarras. Tocarán individualmente obras de los grandes compositores de la guitarra clásica. \n  \n \nFecha: miércoles\, 15 de febrero \nHora: 19:00 \nLugar: jardín de AFGT \nEntrada gratuita \nParqueo gratuito
URL:https://alianzafrancesa.org.gt/evento/guitarra-para-todos-2/
LOCATION:Alianza Francesa – Ciudad de Guatemala\, 5a. Calle 10-55 Zona 13 - Finca La Aurora\, Ciudad de Guatemala\, Guatemala
CATEGORIES:Agenda,Música,Musique
ATTACH;FMTTYPE=image/png:https://alianzafrancesa.org.gt/wp-content/uploads/2023/02/banner-1.png
ORGANIZER;CN="Alianza Francesa de Guatemala":MAILTO:info@alianzafrancesa.org.gt
END:VEVENT
END:VCALENDAR