BEGIN:VCALENDAR
VERSION:2.0
PRODID:-//Alianza Francesa Guatemala - ECPv6.15.20//NONSGML v1.0//EN
CALSCALE:GREGORIAN
METHOD:PUBLISH
X-WR-CALNAME:Alianza Francesa Guatemala
X-ORIGINAL-URL:https://alianzafrancesa.org.gt
X-WR-CALDESC:Eventos para Alianza Francesa Guatemala
REFRESH-INTERVAL;VALUE=DURATION:PT1H
X-Robots-Tag:noindex
X-PUBLISHED-TTL:PT1H
BEGIN:VTIMEZONE
TZID:America/Guatemala
BEGIN:STANDARD
TZOFFSETFROM:-0600
TZOFFSETTO:-0600
TZNAME:CST
DTSTART:20220101T000000
END:STANDARD
END:VTIMEZONE
BEGIN:VEVENT
DTSTART;TZID=America/Guatemala:20230412T190000
DTEND;TZID=America/Guatemala:20230412T203000
DTSTAMP:20260421T201205
CREATED:20230410T193503Z
LAST-MODIFIED:20230410T221224Z
UID:8392-1681326000-1681331400@alianzafrancesa.org.gt
SUMMARY:Recital La Nueva Generación
DESCRIPTION:  \nTe invitamos a una noche inolvidable de guitarra acústica con músicos de excelencia organizada por Guitarra Para Todos. Este concierto reúne a tres guitarristas talentosos que harán vibrar tus sentidos con sus melodías suaves y el sonido cálido de la guitarra acústica. Dany Iquité\, Roberto Monroy y Erlyn Juárez se unen para ofrecerte una experiencia musical única e inolvidable. Cada uno de ellos tiene un estilo distinto y ha cosechado un éxito impresionante en el mundo de la música. \n  \n  \nDany Iquité\n \nEs un joven guitarrista con una gran trayectoria a nivel nacional e internacional. Posee una técnica muy refinada e interpreta obras de gran nivel musical. Estas son las obras que presentará el día del evento; Preludio en E – Manuel M. Ponce\, Una limosna por el amor de Dios – Agustín Pío Barrios\, Porro – Gentil Montaña\, Tonada por despedida – Juan Antonio Sánchez\, Jongo – Paulo Bellinati\, Danza de la paloma enamorada – Atahualpa Yupanqui\, Sones Guatemaltecos «Ixtía Chimalteca»\, «Mi palmarcito querido» y también estrenará su obra Achalalil. \n  \n  \nRoberto Monroy\n \nEs un guitarrista clásico por parte del Conservatorio Nacional de Música. Dedicado a la interpretación de la tradición guitarrista clásica europea y tocará algunas obras como: Divertimento Op.13\, no.1 y Estudio VI de Fernando Sor\, Vals en D. de Francisco Tárrega. \n  \n  \nErlyn Rubén Juárez Cutzal\n \nJoven guitarrista\, maestro\, compositor y productor musical de 23 años de edad con un amplio repertorio y conocimientos que nos deleita y expresan en sus interpretaciones. Durante su trayectoria ha producido varios proyectos discográficos como Antología entre cuerdas\, Otoño y Viento por los Lares. Durante la velada nos deleitará con estos temas; Vals venezolano – Raul Borges\, Pavana – F. Tarrega\, Minuett II. Bb – J.S Bach\, Río Polochic – Rodolfo Narciso Chavarria. \n\n  \n¡Te esperamos!\n????️ Fecha: miércoles 12/04/2023\n⏲️ Hora: 19:00\n???? Lugar: Alianza Francesa de Guatemala\n???? Dirección: 5a calle 10-55\, zona 13\, frente al Museo de los Niños.\n???? ENTRADA GRATUITA\n???? PARQUEO GRATUITO (SEGÚN DISPONIBILIDAD)
URL:https://alianzafrancesa.org.gt/evento/recital-de-guitarra-clasica/
LOCATION:Alianza Francesa de Guatemala\, 5ta calle 10-55 Finca La Aurora zona 13\, Guatemala\, Guatemala\, 01013\, Guatemala
CATEGORIES:Agenda,Música,Musique
ORGANIZER;CN="Alianza Francesa de Guatemala":MAILTO:info@alianzafrancesa.org.gt
END:VEVENT
END:VCALENDAR