BEGIN:VCALENDAR
VERSION:2.0
PRODID:-//Alianza Francesa Guatemala - ECPv6.15.20//NONSGML v1.0//EN
CALSCALE:GREGORIAN
METHOD:PUBLISH
X-ORIGINAL-URL:https://alianzafrancesa.org.gt
X-WR-CALDESC:Eventos para Alianza Francesa Guatemala
REFRESH-INTERVAL;VALUE=DURATION:PT1H
X-Robots-Tag:noindex
X-PUBLISHED-TTL:PT1H
BEGIN:VTIMEZONE
TZID:America/Guatemala
BEGIN:STANDARD
TZOFFSETFROM:-0600
TZOFFSETTO:-0600
TZNAME:CST
DTSTART:20220101T000000
END:STANDARD
END:VTIMEZONE
BEGIN:VEVENT
DTSTART;TZID=America/Guatemala:20230615T190000
DTEND;TZID=America/Guatemala:20230615T200000
DTSTAMP:20260421T170610
CREATED:20230613T175846Z
LAST-MODIFIED:20230613T175943Z
UID:8539-1686855600-1686859200@alianzafrancesa.org.gt
SUMMARY:Recital de guitarra clásica
DESCRIPTION:GUITARRA PARA TODOS \nGuitarra Para Todos presentará un recital inédito y muy especial con músicos talentosos de la guitarra acústica. \n???? Guitarristas:\n@mimivr.gt\n@emanuelsicaja\n@hector.agui.zamora \nVen y disfruta con amigos o familia. \n¡Te esperamos! \n????️ Fecha: jueves 15/06/2023\n⏲️ Hora: 19:00\n???? Lugar: Alianza Francesa de Guatemala\n???? Dirección: 5a calle 10-55\, zona 13\, frente al Museo de los Niños.\n???? ENTRADA GRATUITA\n???? PARQUEO GRATUITO (SEGÚN DISPONIBILIDAD) \n#Alianzafrancesagt #franciaenguate #cultura #idiomaycultura
URL:https://alianzafrancesa.org.gt/evento/recital-de-guitarra-clasica-2/
LOCATION:Alianza Francesa de Guatemala\, 5ta calle 10-55 Finca La Aurora zona 13\, Guatemala\, Guatemala\, 01013\, Guatemala
CATEGORIES:Agenda,Música,Musique
ORGANIZER;CN="Alianza Francesa de Guatemala":MAILTO:info@alianzafrancesa.org.gt
END:VEVENT
END:VCALENDAR