BEGIN:VCALENDAR
VERSION:2.0
PRODID:-//Alianza Francesa Guatemala - ECPv6.15.20//NONSGML v1.0//EN
CALSCALE:GREGORIAN
METHOD:PUBLISH
X-WR-CALNAME:Alianza Francesa Guatemala
X-ORIGINAL-URL:https://alianzafrancesa.org.gt
X-WR-CALDESC:Eventos para Alianza Francesa Guatemala
REFRESH-INTERVAL;VALUE=DURATION:PT1H
X-Robots-Tag:noindex
X-PUBLISHED-TTL:PT1H
BEGIN:VTIMEZONE
TZID:America/Guatemala
BEGIN:STANDARD
TZOFFSETFROM:-0600
TZOFFSETTO:-0600
TZNAME:CST
DTSTART:20220101T000000
END:STANDARD
END:VTIMEZONE
BEGIN:VEVENT
DTSTART;TZID=America/Guatemala:20230808T190000
DTEND;TZID=America/Guatemala:20230808T220000
DTSTAMP:20260421T135345
CREATED:20230808T083011Z
LAST-MODIFIED:20230808T083235Z
UID:8597-1691521200-1691532000@alianzafrancesa.org.gt
SUMMARY:Ciclo de Cine  "OTRAS MIRADAS"
DESCRIPTION:Ciclo de Cine «OTRAS MIRADAS»\n  \nCLEA Guatemala y la Alianza Francesa de Guatemala\, tienen el agrado de invitarles este 08 de agosto a que nos acompañen al Ciclo de Cine Francés «Otras Miradas». \n  \nPelícula:  \n«Allons Enfant» \nSinopsis:  \nEl Instituto elitista Turgot es un lugar donde se enseña baile moderno y hip hop\, abierto a jóvenes en riesgo de exclusión social\, a cambio de un “pequeño” esfuerzo: que aprueben las asignaturas generales de secundaria y bachillerato. Se trata no sólo de convertirse en artista de hip hop\, sino de romper el ciclo que condena a los jóvenes de familias sin recursos a transformarse en “casos sociales”\, carne de cañón para el mundo. \n \n  \nDonación por película. \nPúblico general Q50.00 \nDocentes. Q30.00 \nEstudiantes de las Escuelas Nacionales de Arte. Q25.00 \n  \nMiembros activos del CLEA Guatemala. Entrada Libre. \n  \nHora: 19:00 \nLugar: Jardín Alianza Francesa de Guatemala \nDirección: 5ta calle 10-55 zona 13. Finca La Aurora. \n  \n  \n\nAFGT
URL:https://alianzafrancesa.org.gt/evento/ciclo-de-cine-otras-miradas/
LOCATION:Alianza Francesa de Guatemala\, 5ta calle 10-55 Finca La Aurora zona 13\, Guatemala\, Guatemala\, 01013\, Guatemala
CATEGORIES:Agenda,Artes Plásticas,Cine,Cinéma,Danse,Danza,Música,Musique
ATTACH;FMTTYPE=image/png:https://alianzafrancesa.org.gt/wp-content/uploads/2023/08/clea_gt_080823.png
ORGANIZER;CN="Alianza Francesa de Guatemala":MAILTO:info@alianzafrancesa.org.gt
END:VEVENT
END:VCALENDAR