BEGIN:VCALENDAR
VERSION:2.0
PRODID:-//Alianza Francesa Guatemala - ECPv6.15.20//NONSGML v1.0//EN
CALSCALE:GREGORIAN
METHOD:PUBLISH
X-WR-CALNAME:Alianza Francesa Guatemala
X-ORIGINAL-URL:https://alianzafrancesa.org.gt
X-WR-CALDESC:Eventos para Alianza Francesa Guatemala
REFRESH-INTERVAL;VALUE=DURATION:PT1H
X-Robots-Tag:noindex
X-PUBLISHED-TTL:PT1H
BEGIN:VTIMEZONE
TZID:America/Guatemala
BEGIN:STANDARD
TZOFFSETFROM:-0600
TZOFFSETTO:-0600
TZNAME:CST
DTSTART:20240101T000000
END:STANDARD
END:VTIMEZONE
BEGIN:VEVENT
DTSTART;TZID=America/Guatemala:20250206T190000
DTEND;TZID=America/Guatemala:20250206T220000
DTSTAMP:20260421T032011
CREATED:20250206T153817Z
LAST-MODIFIED:20250206T162652Z
UID:10012-1738868400-1738879200@alianzafrancesa.org.gt
SUMMARY:Concierto - Resiliente con Daniel Rosé
DESCRIPTION:Iniciamos febrero con el concierto «Resiliente» a cargo del pianista Daniel Rosé\, que nos extiende la invitación para acompañarle en una velada llena de talento musical\, donde descubriremos esta íntima historia de un soñador. \nEste evento contará con el acompañamiento artístico de Luis Orellana (violín)\, Susan González (cello) y Adriana Ixcoy (trompeta)\, además del pianista invitado Hugo Garrido\, para disfrutar una noche cautivante para toda la familia. \n Entrada: Q50 (día del evento) | Todo público \n 6 febrero | 19:00 horas \n Galería\, Alianza Francesa\, 5ta calle 10-55\, z13 \n Parqueo | Carro: Q20 – Motocicleta: Q10
URL:https://alianzafrancesa.org.gt/evento/10012/
CATEGORIES:Agenda,Autres,Música,Musique,Otros
ATTACH;FMTTYPE=image/jpeg:https://alianzafrancesa.org.gt/wp-content/uploads/2025/02/RESILIENTE-FLYER-POST-CUADRADO-scaled.jpg
END:VEVENT
END:VCALENDAR