BEGIN:VCALENDAR
VERSION:2.0
PRODID:-//Alianza Francesa Guatemala - ECPv6.15.20//NONSGML v1.0//EN
CALSCALE:GREGORIAN
METHOD:PUBLISH
X-WR-CALNAME:Alianza Francesa Guatemala
X-ORIGINAL-URL:https://alianzafrancesa.org.gt
X-WR-CALDESC:Eventos para Alianza Francesa Guatemala
REFRESH-INTERVAL;VALUE=DURATION:PT1H
X-Robots-Tag:noindex
X-PUBLISHED-TTL:PT1H
BEGIN:VTIMEZONE
TZID:America/Guatemala
BEGIN:STANDARD
TZOFFSETFROM:-0600
TZOFFSETTO:-0600
TZNAME:CST
DTSTART:20240101T000000
END:STANDARD
END:VTIMEZONE
BEGIN:VEVENT
DTSTART;TZID=America/Guatemala:20250805T080000
DTEND;TZID=America/Guatemala:20250805T170000
DTSTAMP:20260419T125343
CREATED:20250805T205016Z
LAST-MODIFIED:20250805T205016Z
UID:10518-1754380800-1754413200@alianzafrancesa.org.gt
SUMMARY:CONCIERTO | GUITARRA PARA TODOS
DESCRIPTION:Luis Juárez Quixtán – Guitarrista guatemalteco radicado en Francia \nTe invitamos cordialmente a una noche de música y sensibilidad con el guitarrista Luis Juárez Quixtán\, reconocido intérprete guatemalteco que reside en Francia. Su recital nos llevará por un viaje sonoro a través de obras clásicas y contemporáneas\, interpretadas con elegancia\, profundidad y virtuosismo. Nuestro compatriota será acompañado por los Maestros Noah Shelley y Ashly Saucedo. \nUna oportunidad única para disfrutar del talento de un músico que representa a Guatemala en escenarios internacionales. \n  \n📅 Jueves 14 de agosto | 19:00 horas \n Evento gratuito | Todo Público \n📍 Alianza Francesa de Guatemala
URL:https://alianzafrancesa.org.gt/evento/concierto-guitarra-para-todos-7/
LOCATION:Alianza Francesa de Guatemala\, 5ta calle 10-55 Finca La Aurora zona 13\, Guatemala\, Guatemala\, 01013\, Guatemala
CATEGORIES:Agenda,Música,Musique,Otros
ATTACH;FMTTYPE=image/jpeg:https://alianzafrancesa.org.gt/wp-content/uploads/2025/08/WhatsApp-Image-2025-08-04-at-09.26.35.jpeg
END:VEVENT
END:VCALENDAR