BEGIN:VCALENDAR
VERSION:2.0
PRODID:-//Alianza Francesa Guatemala - ECPv6.15.20//NONSGML v1.0//EN
CALSCALE:GREGORIAN
METHOD:PUBLISH
X-WR-CALNAME:Alianza Francesa Guatemala
X-ORIGINAL-URL:https://alianzafrancesa.org.gt
X-WR-CALDESC:Eventos para Alianza Francesa Guatemala
REFRESH-INTERVAL;VALUE=DURATION:PT1H
X-Robots-Tag:noindex
X-PUBLISHED-TTL:PT1H
BEGIN:VTIMEZONE
TZID:America/Guatemala
BEGIN:STANDARD
TZOFFSETFROM:-0600
TZOFFSETTO:-0600
TZNAME:CST
DTSTART:20240101T000000
END:STANDARD
END:VTIMEZONE
BEGIN:VEVENT
DTSTART;TZID=America/Guatemala:20251207T160000
DTEND;TZID=America/Guatemala:20251207T230000
DTSTAMP:20260419T101348
CREATED:20251204T190038Z
LAST-MODIFIED:20251204T190038Z
UID:10756-1765123200-1765148400@alianzafrancesa.org.gt
SUMMARY:CONCIERTO | MELÓMANO DOMINGO - SONIDO LOCAL
DESCRIPTION:¡Encendemos diciembre con música hecha en Guatemala! \nEste 7 de diciembre\, Melómano Domingo presenta SONIDO LOCAL\, un encuentro para vibrar con talento nacional\, descubrir nuevas propuestas y cerrar el fin de semana con buenísima energía. \nVen con tus amigos\, trae tu mejor vibra y prepárate para una tarde donde la música independiente toma el escenario. \n Domingo 7 de diciembre\, 2025 | 16:00 hrs \n Jardín\, Alianza Francesa de Guatemala\, 5ta calle 10-55 zona 13\, Ciudad \n Entradas desde: Q100 starticket
URL:https://alianzafrancesa.org.gt/evento/concierto-melomano-domingo-sonido-local/
LOCATION:Alianza Francesa – Ciudad de Guatemala\, 5a. Calle 10-55 Zona 13 - Finca La Aurora\, Ciudad de Guatemala\, Guatemala
CATEGORIES:Agenda,Autres,Música,Musique,Otros
ATTACH;FMTTYPE=image/jpeg:https://alianzafrancesa.org.gt/wp-content/uploads/2025/12/💚🔹-SE-VIENE-UN-MELOMANO-DOMINGO-DIFERENTE-💚🔹Este-7-de-diciembre-en-Alianza-Francesa-vivi-el.jpg
END:VEVENT
END:VCALENDAR