BEGIN:VCALENDAR
VERSION:2.0
PRODID:-//Alianza Francesa Guatemala - ECPv6.15.20//NONSGML v1.0//EN
CALSCALE:GREGORIAN
METHOD:PUBLISH
X-ORIGINAL-URL:https://alianzafrancesa.org.gt
X-WR-CALDESC:Eventos para Alianza Francesa Guatemala
REFRESH-INTERVAL;VALUE=DURATION:PT1H
X-Robots-Tag:noindex
X-PUBLISHED-TTL:PT1H
BEGIN:VTIMEZONE
TZID:America/Guatemala
BEGIN:STANDARD
TZOFFSETFROM:-0600
TZOFFSETTO:-0600
TZNAME:CST
DTSTART:20240101T000000
END:STANDARD
END:VTIMEZONE
BEGIN:VEVENT
DTSTART;TZID=America/Guatemala:20251210T193000
DTEND;TZID=America/Guatemala:20251210T220000
DTSTAMP:20260419T101911
CREATED:20251204T190148Z
LAST-MODIFIED:20251204T190148Z
UID:10759-1765395000-1765404000@alianzafrancesa.org.gt
SUMMARY:CONCIERTO | CONCERT DE NOËL AVEC IMOX JAZZ
DESCRIPTION:CLAUSURA DE TEMPORADA CULTURAL 2025 \nCelebramos la Navidad con un toque francés y el ritmo envolvente de Imox Jazz\, en el jardín de la Alianza Francesa. \nUna noche para disfrutar clásicos navideños reinterpretados en clave de jazz\, acompañados de pizzas artesanales de Patio Pizzería. \nAcompáñanos en este evento de clausura para festejar un año de cultura al ritmo de la música. \n Miércoles 10 de diciembre\, 2025 | 19:30 horas \n Jardín\, Alianza Francesa de Guatemala\, 5ta calle 10-55 zona 13\, Ciudad \n Preventa 2 x Q150 – Taquilla Q100 por persona \n Entradas 2×1 disponibles en: imoxjazz.com \n Parqueo gratuito (según disponibilidad)
URL:https://alianzafrancesa.org.gt/evento/concierto-concert-de-noel-avec-imox-jazz/
LOCATION:Alianza Francesa de Guatemala\, 5ta calle 10-55 Finca La Aurora zona 13\, Guatemala\, Guatemala\, 01013\, Guatemala
CATEGORIES:Agenda,Autres,Música,Musique,Otros
ATTACH;FMTTYPE=image/jpeg:https://alianzafrancesa.org.gt/wp-content/uploads/2025/12/Visual-dicembre-10-concierto.jpg
END:VEVENT
END:VCALENDAR